BEGIN:VCALENDAR
VERSION:2.0
PRODID:-//Nepali Calendar//EN
BEGIN:VEVENT
UID:2297f4f83167e9e835c92fc20569a62d@nepalicalendar.com
DTSTAMP:20260421T181244Z
DTSTART;VALUE=DATE:20250919
DTEND;VALUE=DATE:20250920
SUMMARY:त्रयोदशी श्राद्ध
DESCRIPTION:त्रयोदशी श्राद्ध
END:VEVENT
END:VCALENDAR