BEGIN:VCALENDAR
VERSION:2.0
PRODID:-//Nepali Calendar//EN
BEGIN:VEVENT
UID:44d9181ddb2f47332c5779361a9bf381@nepalicalendar.com
DTSTAMP:20260421T181438Z
DTSTART;VALUE=DATE:20250918
DTEND;VALUE=DATE:20250919
SUMMARY:द्वादशी श्राद्ध
DESCRIPTION:द्वादशी श्राद्ध
END:VEVENT
END:VCALENDAR