BEGIN:VCALENDAR
VERSION:2.0
PRODID:-//Nepali Calendar//EN
BEGIN:VEVENT
UID:ba3bf8811931f5e3505be2ee9eca8224@nepalicalendar.com
DTSTAMP:20260421T194715Z
DTSTART;VALUE=DATE:20250917
DTEND;VALUE=DATE:20250918
SUMMARY:विश्व बिरामी सुरक्षा दिवस
DESCRIPTION:विश्व बिरामी सुरक्षा दिवस
END:VEVENT
END:VCALENDAR