BEGIN:VCALENDAR
VERSION:2.0
PRODID:-//Nepali Calendar//EN
BEGIN:VEVENT
UID:ede2bba9bc6f5dda564b65633faed68a@nepalicalendar.com
DTSTAMP:20260421T194811Z
DTSTART;VALUE=DATE:20250917
DTEND;VALUE=DATE:20250918
SUMMARY:राष्ट्रिय विज्ञान दिवस
DESCRIPTION:राष्ट्रिय विज्ञान दिवस
END:VEVENT
END:VCALENDAR