BEGIN:VCALENDAR
VERSION:2.0
PRODID:-//Nepali Calendar//EN
BEGIN:VEVENT
UID:7784962643c19210bdda858007a946b7@nepalicalendar.com
DTSTAMP:20260421T194601Z
DTSTART;VALUE=DATE:20250917
DTEND;VALUE=DATE:20250918
SUMMARY:वास्तु दिवस
DESCRIPTION:वास्तु दिवस
END:VEVENT
END:VCALENDAR