BEGIN:VCALENDAR
VERSION:2.0
PRODID:-//Nepali Calendar//EN
BEGIN:VEVENT
UID:f1e71f610d2b87b483861c19d9652dd2@nepalicalendar.com
DTSTAMP:20260421T194546Z
DTSTART;VALUE=DATE:20250917
DTEND;VALUE=DATE:20250918
SUMMARY:विश्वकर्मा पूजा
DESCRIPTION:विश्वकर्मा पूजा
END:VEVENT
END:VCALENDAR