BEGIN:VCALENDAR
VERSION:2.0
PRODID:-//Nepali Calendar//EN
BEGIN:VEVENT
UID:7799e8a94f6f31b9d7a0994ee2a1a943@nepalicalendar.com
DTSTAMP:20260422T005633Z
DTSTART;VALUE=DATE:20250524
DTEND;VALUE=DATE:20250525
SUMMARY:शनि प्रदोष व्रत
DESCRIPTION:शनि प्रदोष व्रत
END:VEVENT
END:VCALENDAR