BEGIN:VCALENDAR
VERSION:2.0
PRODID:-//Nepali Calendar//EN
BEGIN:VEVENT
UID:7abdda4e46e098c14aa5a32eeea4a55d@nepalicalendar.com
DTSTAMP:20260421T181104Z
DTSTART;VALUE=DATE:20250917
DTEND;VALUE=DATE:20250918
SUMMARY:एकादशी श्राद्ध
DESCRIPTION:एकादशी श्राद्ध
END:VEVENT
END:VCALENDAR