BEGIN:VCALENDAR
VERSION:2.0
PRODID:-//Nepali Calendar//EN
BEGIN:VEVENT
UID:1d38231e1b0cb658a89dc4646dc752d6@nepalicalendar.com
DTSTAMP:20260421T181253Z
DTSTART;VALUE=DATE:20250917
DTEND;VALUE=DATE:20250918
SUMMARY:इन्दिरा एकादशी व्रत
DESCRIPTION:इन्दिरा एकादशी व्रत
END:VEVENT
END:VCALENDAR