BEGIN:VCALENDAR
VERSION:2.0
PRODID:-//Nepali Calendar//EN
BEGIN:VEVENT
UID:25fa25775e810fd62d568f7004413b21@nepalicalendar.com
DTSTAMP:20260421T180938Z
DTSTART;VALUE=DATE:20250917
DTEND;VALUE=DATE:20250918
SUMMARY:कन्या संक्रान्ति
DESCRIPTION:कन्या संक्रान्ति
END:VEVENT
END:VCALENDAR