BEGIN:VCALENDAR
VERSION:2.0
PRODID:-//Nepali Calendar//EN
BEGIN:VEVENT
UID:d86088266aa1061efe6e2008251943c4@nepalicalendar.com
DTSTAMP:20260421T194417Z
DTSTART;VALUE=DATE:20250916
DTEND;VALUE=DATE:20250917
SUMMARY:विश्व ओजोन तह बचाउ दिवस
DESCRIPTION:विश्व ओजोन तह बचाउ दिवस
END:VEVENT
END:VCALENDAR