BEGIN:VCALENDAR
VERSION:2.0
PRODID:-//Nepali Calendar//EN
BEGIN:VEVENT
UID:6f28959c4cb204639700ff132ae64e65@nepalicalendar.com
DTSTAMP:20260421T194602Z
DTSTART;VALUE=DATE:20250916
DTEND;VALUE=DATE:20250917
SUMMARY:दशमी श्राद्ध
DESCRIPTION:दशमी श्राद्ध
END:VEVENT
END:VCALENDAR