BEGIN:VCALENDAR
VERSION:2.0
PRODID:-//Nepali Calendar//EN
BEGIN:VEVENT
UID:f8bad586c66a605d4ddb3425e4f825d3@nepalicalendar.com
DTSTAMP:20260421T194658Z
DTSTART;VALUE=DATE:20250915
DTEND;VALUE=DATE:20250916
SUMMARY:जितियापर्व (पर्व मनाउने महिलाहरूलाई बिदा)
DESCRIPTION:जितियापर्व (पर्व मनाउने महिलाहरूलाई बिदा)
END:VEVENT
END:VCALENDAR