BEGIN:VCALENDAR
VERSION:2.0
PRODID:-//Nepali Calendar//EN
BEGIN:VEVENT
UID:60b107955936bbb438cee0ac71a81997@nepalicalendar.com
DTSTAMP:20260421T194715Z
DTSTART;VALUE=DATE:20250915
DTEND;VALUE=DATE:20250916
SUMMARY:नवमी श्राद्ध
DESCRIPTION:नवमी श्राद्ध
END:VEVENT
END:VCALENDAR