BEGIN:VCALENDAR
VERSION:2.0
PRODID:-//Nepali Calendar//EN
BEGIN:VEVENT
UID:454449a0a8555a000409e07fa645a069@nepalicalendar.com
DTSTAMP:20260421T213218Z
DTSTART;VALUE=DATE:20250914
DTEND;VALUE=DATE:20250915
SUMMARY:गोरखकाली पूजा
DESCRIPTION:गोरखकाली पूजा
END:VEVENT
END:VCALENDAR