BEGIN:VCALENDAR
VERSION:2.0
PRODID:-//Nepali Calendar//EN
BEGIN:VEVENT
UID:75d1d6c63f01b49c1c1dcb6576f1d957@nepalicalendar.com
DTSTAMP:20260421T194356Z
DTSTART;VALUE=DATE:20250914
DTEND;VALUE=DATE:20250915
SUMMARY:राष्ट्रिय बाल दिवस
DESCRIPTION:राष्ट्रिय बाल दिवस
END:VEVENT
END:VCALENDAR