BEGIN:VCALENDAR
VERSION:2.0
PRODID:-//Nepali Calendar//EN
BEGIN:VEVENT
UID:71d5a5976a3313a72b87ac088ea1e735@nepalicalendar.com
DTSTAMP:20260421T194418Z
DTSTART;VALUE=DATE:20250914
DTEND;VALUE=DATE:20250915
SUMMARY:रविसप्तमी व्रत
DESCRIPTION:रविसप्तमी व्रत
END:VEVENT
END:VCALENDAR