BEGIN:VCALENDAR
VERSION:2.0
PRODID:-//Nepali Calendar//EN
BEGIN:VEVENT
UID:cdf16b52c8f0c393e3b3c7c2f8e67af9@nepalicalendar.com
DTSTAMP:20260422T005957Z
DTSTART;VALUE=DATE:20250523
DTEND;VALUE=DATE:20250524
SUMMARY:युगकवि सिद्धिचरण श्रेष्ठ जन्मजयन्ती
DESCRIPTION:युगकवि सिद्धिचरण श्रेष्ठ जन्मजयन्ती
END:VEVENT
END:VCALENDAR