BEGIN:VCALENDAR
VERSION:2.0
PRODID:-//Nepali Calendar//EN
BEGIN:VEVENT
UID:b16c0f62cfe4ab88ff3104e8bd7fa9d7@nepalicalendar.com
DTSTAMP:20260422T005632Z
DTSTART;VALUE=DATE:20250528
DTEND;VALUE=DATE:20250529
SUMMARY:गोसाइकुण्ड स्नान आरम्भ
DESCRIPTION:गोसाइकुण्ड स्नान आरम्भ
END:VEVENT
END:VCALENDAR