BEGIN:VCALENDAR
VERSION:2.0
PRODID:-//Nepali Calendar//EN
BEGIN:VEVENT
UID:b8fba0161f74a819c72a5496bc0b637d@nepalicalendar.com
DTSTAMP:20260421T194510Z
DTSTART;VALUE=DATE:20250914
DTEND;VALUE=DATE:20250915
SUMMARY:अष्टमी श्राद्ध
DESCRIPTION:अष्टमी श्राद्ध
END:VEVENT
END:VCALENDAR