BEGIN:VCALENDAR
VERSION:2.0
PRODID:-//Nepali Calendar//EN
BEGIN:VEVENT
UID:4be709f1fc41741179e5c8fc0f6b4547@nepalicalendar.com
DTSTAMP:20260421T194832Z
DTSTART;VALUE=DATE:20250913
DTEND;VALUE=DATE:20250914
SUMMARY:प्राथमिक उपचार दिवस
DESCRIPTION:प्राथमिक उपचार दिवस
END:VEVENT
END:VCALENDAR