BEGIN:VCALENDAR
VERSION:2.0
PRODID:-//Nepali Calendar//EN
BEGIN:VEVENT
UID:6a69abf9eea9421e5305b8f344a94915@nepalicalendar.com
DTSTAMP:20260421T194704Z
DTSTART;VALUE=DATE:20250913
DTEND;VALUE=DATE:20250914
SUMMARY:सप्तमी श्राद्ध
DESCRIPTION:सप्तमी श्राद्ध
END:VEVENT
END:VCALENDAR