BEGIN:VCALENDAR
VERSION:2.0
PRODID:-//Nepali Calendar//EN
BEGIN:VEVENT
UID:678dcca651df34e9eeb1ce34da033470@nepalicalendar.com
DTSTAMP:20260421T194531Z
DTSTART;VALUE=DATE:20250912
DTEND;VALUE=DATE:20250913
SUMMARY:षष्ठी श्राद्ध
DESCRIPTION:षष्ठी श्राद्ध
END:VEVENT
END:VCALENDAR