BEGIN:VCALENDAR
VERSION:2.0
PRODID:-//Nepali Calendar//EN
BEGIN:VEVENT
UID:d8bc431f0d625f2bfd6f1649b534cf79@nepalicalendar.com
DTSTAMP:20260421T194832Z
DTSTART;VALUE=DATE:20250912
DTEND;VALUE=DATE:20250913
SUMMARY:पञ्चमी श्राद्ध
DESCRIPTION:पञ्चमी श्राद्ध
END:VEVENT
END:VCALENDAR