BEGIN:VCALENDAR
VERSION:2.0
PRODID:-//Nepali Calendar//EN
BEGIN:VEVENT
UID:b1bd910ed44ca4fe5db38d76b150bbf2@nepalicalendar.com
DTSTAMP:20260421T194704Z
DTSTART;VALUE=DATE:20250911
DTEND;VALUE=DATE:20250912
SUMMARY:चतुर्थी श्राद्ध
DESCRIPTION:चतुर्थी श्राद्ध
END:VEVENT
END:VCALENDAR