BEGIN:VCALENDAR
VERSION:2.0
PRODID:-//Nepali Calendar//EN
BEGIN:VEVENT
UID:f93c8b5876945391b65534f8dbafcd32@nepalicalendar.com
DTSTAMP:20260421T194310Z
DTSTART;VALUE=DATE:20250910
DTEND;VALUE=DATE:20250911
SUMMARY:विश्व आत्महत्या रोकथाम दिवस
DESCRIPTION:विश्व आत्महत्या रोकथाम दिवस
END:VEVENT
END:VCALENDAR