BEGIN:VCALENDAR
VERSION:2.0
PRODID:-//Nepali Calendar//EN
BEGIN:VEVENT
UID:a34861ff5079e381f3fe9368f9aaea8e@nepalicalendar.com
DTSTAMP:20260421T194401Z
DTSTART;VALUE=DATE:20250910
DTEND;VALUE=DATE:20250911
SUMMARY:तृतीया श्राद्ध
DESCRIPTION:तृतीया श्राद्ध
END:VEVENT
END:VCALENDAR