BEGIN:VCALENDAR
VERSION:2.0
PRODID:-//Nepali Calendar//EN
BEGIN:VEVENT
UID:071c20025286e72695c68625cdaaef72@nepalicalendar.com
DTSTAMP:20260421T194545Z
DTSTART;VALUE=DATE:20250909
DTEND;VALUE=DATE:20250910
SUMMARY:द्वितीया श्राद्ध
DESCRIPTION:द्वितीया श्राद्ध
END:VEVENT
END:VCALENDAR