BEGIN:VCALENDAR
VERSION:2.0
PRODID:-//Nepali Calendar//EN
BEGIN:VEVENT
UID:49a26cb371fb199d33ece619a991b13f@nepalicalendar.com
DTSTAMP:20260421T194234Z
DTSTART;VALUE=DATE:20250908
DTEND;VALUE=DATE:20250909
SUMMARY:विश्व फिजियोथेरापी दिवस
DESCRIPTION:विश्व फिजियोथेरापी दिवस
END:VEVENT
END:VCALENDAR