BEGIN:VCALENDAR
VERSION:2.0
PRODID:-//Nepali Calendar//EN
BEGIN:VEVENT
UID:ef7582341ff81778c4295f3bca9c7ac6@nepalicalendar.com
DTSTAMP:20260422T010109Z
DTSTART;VALUE=DATE:20250523
DTEND;VALUE=DATE:20250524
SUMMARY:चित्तधर हृदय जन्मजयन्ती
DESCRIPTION:चित्तधर हृदय जन्मजयन्ती
END:VEVENT
END:VCALENDAR