BEGIN:VCALENDAR
VERSION:2.0
PRODID:-//Nepali Calendar//EN
BEGIN:VEVENT
UID:f6a70c22a479d82076d028c3b1429084@nepalicalendar.com
DTSTAMP:20260421T194510Z
DTSTART;VALUE=DATE:20250908
DTEND;VALUE=DATE:20250909
SUMMARY:अन्तर्राष्ट्रिय साक्षरता दिवस
DESCRIPTION:अन्तर्राष्ट्रिय साक्षरता दिवस
END:VEVENT
END:VCALENDAR