BEGIN:VCALENDAR
VERSION:2.0
PRODID:-//Nepali Calendar//EN
BEGIN:VEVENT
UID:cbbbd0f67f49b5b60b16211cdd953f53@nepalicalendar.com
DTSTAMP:20260421T194715Z
DTSTART;VALUE=DATE:20250908
DTEND;VALUE=DATE:20250909
SUMMARY:सोह्रश्राद्ध प्रारम्भ (प्रतिपदा श्राद्ध)
DESCRIPTION:सोह्रश्राद्ध प्रारम्भ (प्रतिपदा श्राद्ध)
END:VEVENT
END:VCALENDAR