BEGIN:VCALENDAR
VERSION:2.0
PRODID:-//Nepali Calendar//EN
BEGIN:VEVENT
UID:afccaf79a870cf27764bf699177e2cb7@nepalicalendar.com
DTSTAMP:20260421T194658Z
DTSTART;VALUE=DATE:20250907
DTEND;VALUE=DATE:20250908
SUMMARY:पूर्णिमा व्रत
DESCRIPTION:पूर्णिमा व्रत
END:VEVENT
END:VCALENDAR