BEGIN:VCALENDAR
VERSION:2.0
PRODID:-//Nepali Calendar//EN
BEGIN:VEVENT
UID:9931eb72de590fd9a34fd6074392e6bd@nepalicalendar.com
DTSTAMP:20260421T194705Z
DTSTART;VALUE=DATE:20250907
DTEND;VALUE=DATE:20250908
SUMMARY:खग्रास चन्द्रग्रहण
DESCRIPTION:खग्रास चन्द्रग्रहण
END:VEVENT
END:VCALENDAR