BEGIN:VCALENDAR
VERSION:2.0
PRODID:-//Nepali Calendar//EN
BEGIN:VEVENT
UID:aee02151163336639fd80e9dd6669211@nepalicalendar.com
DTSTAMP:20260421T194418Z
DTSTART;VALUE=DATE:20250906
DTEND;VALUE=DATE:20250907
SUMMARY:अनन्त चतुर्दशी व्रत
DESCRIPTION:अनन्त चतुर्दशी व्रत
END:VEVENT
END:VCALENDAR