BEGIN:VCALENDAR
VERSION:2.0
PRODID:-//Nepali Calendar//EN
BEGIN:VEVENT
UID:8af09286f78190d0505c231331eee8d1@nepalicalendar.com
DTSTAMP:20260421T194532Z
DTSTART;VALUE=DATE:20250906
DTEND;VALUE=DATE:20250907
SUMMARY:इन्द्रजात्रा (काठमाडौं उपत्यका विदा)
DESCRIPTION:इन्द्रजात्रा (काठमाडौं उपत्यका विदा)
END:VEVENT
END:VCALENDAR