BEGIN:VCALENDAR
VERSION:2.0
PRODID:-//Nepali Calendar//EN
BEGIN:VEVENT
UID:5fcf54ae5a9576332725808d4fee3640@nepalicalendar.com
DTSTAMP:20260421T194235Z
DTSTART;VALUE=DATE:20250905
DTEND;VALUE=DATE:20250906
SUMMARY:मानव बेचबिखन विरुद्ध राष्ट्रिय दिवस
DESCRIPTION:मानव बेचबिखन विरुद्ध राष्ट्रिय दिवस
END:VEVENT
END:VCALENDAR