BEGIN:VCALENDAR
VERSION:2.0
PRODID:-//Nepali Calendar//EN
BEGIN:VEVENT
UID:388f402117479a8e67193dd8c38003cc@nepalicalendar.com
DTSTAMP:20260421T194401Z
DTSTART;VALUE=DATE:20250905
DTEND;VALUE=DATE:20250906
SUMMARY:प्रदोष व्रत
DESCRIPTION:प्रदोष व्रत
END:VEVENT
END:VCALENDAR