BEGIN:VCALENDAR
VERSION:2.0
PRODID:-//Nepali Calendar//EN
BEGIN:VEVENT
UID:79c70ea186a0c1c7dc0a2d7da274f30a@nepalicalendar.com
DTSTAMP:20260421T194812Z
DTSTART;VALUE=DATE:20250904
DTEND;VALUE=DATE:20250905
SUMMARY:वामन द्वादशी व्रत
DESCRIPTION:वामन द्वादशी व्रत
END:VEVENT
END:VCALENDAR