BEGIN:VCALENDAR
VERSION:2.0
PRODID:-//Nepali Calendar//EN
BEGIN:VEVENT
UID:f067c91347675ac35ce67329c5bc44ad@nepalicalendar.com
DTSTAMP:20260421T194812Z
DTSTART;VALUE=DATE:20250903
DTEND;VALUE=DATE:20250904
SUMMARY:हरिपरिवर्तिनी एकादशी व्रत
DESCRIPTION:हरिपरिवर्तिनी एकादशी व्रत
END:VEVENT
END:VCALENDAR