BEGIN:VCALENDAR
VERSION:2.0
PRODID:-//Nepali Calendar//EN
BEGIN:VEVENT
UID:5b867e09041e07d0a472370d25c3a128@nepalicalendar.com
DTSTAMP:20260422T010207Z
DTSTART;VALUE=DATE:20250523
DTEND;VALUE=DATE:20250524
SUMMARY:अपरा एकादशी व्रत
DESCRIPTION:अपरा एकादशी व्रत
END:VEVENT
END:VCALENDAR