BEGIN:VCALENDAR
VERSION:2.0
PRODID:-//Nepali Calendar//EN
BEGIN:VEVENT
UID:313c1e188d30b4850748be197a6aa4c6@nepalicalendar.com
DTSTAMP:20260421T213654Z
DTSTART;VALUE=DATE:20250831
DTEND;VALUE=DATE:20250901
SUMMARY:दुर्वाष्टमी
DESCRIPTION:दुर्वाष्टमी
END:VEVENT
END:VCALENDAR