BEGIN:VCALENDAR
VERSION:2.0
PRODID:-//Nepali Calendar//EN
BEGIN:VEVENT
UID:c2eb81a851257daf5f135c374ad59ccb@nepalicalendar.com
DTSTAMP:20260421T194218Z
DTSTART;VALUE=DATE:20250831
DTEND;VALUE=DATE:20250901
SUMMARY:गाैरा पर्व (सम्बन्धित समुदायलाई मात्र)
DESCRIPTION:गाैरा पर्व (सम्बन्धित समुदायलाई मात्र)
END:VEVENT
END:VCALENDAR