BEGIN:VCALENDAR
VERSION:2.0
PRODID:-//Nepali Calendar//EN
BEGIN:VEVENT
UID:696b5f58b73350d44d14866e135d136b@nepalicalendar.com
DTSTAMP:20260421T194208Z
DTSTART;VALUE=DATE:20250831
DTEND;VALUE=DATE:20250901
SUMMARY:राधा जन्मोत्सव
DESCRIPTION:राधा जन्मोत्सव
END:VEVENT
END:VCALENDAR