BEGIN:VCALENDAR
VERSION:2.0
PRODID:-//Nepali Calendar//EN
BEGIN:VEVENT
UID:4e9b9e69fff97027216d3612ce6d4e4b@nepalicalendar.com
DTSTAMP:20260421T194056Z
DTSTART;VALUE=DATE:20250830
DTEND;VALUE=DATE:20250831
SUMMARY:विश्व बेपत्ता विरुद्धको दिवस
DESCRIPTION:विश्व बेपत्ता विरुद्धको दिवस
END:VEVENT
END:VCALENDAR