BEGIN:VCALENDAR
VERSION:2.0
PRODID:-//Nepali Calendar//EN
BEGIN:VEVENT
UID:70d07086d9d28bb542449eec162061d8@nepalicalendar.com
DTSTAMP:20260421T194137Z
DTSTART;VALUE=DATE:20250830
DTEND;VALUE=DATE:20250831
SUMMARY:गौरा सप्तमी
DESCRIPTION:गौरा सप्तमी
END:VEVENT
END:VCALENDAR