BEGIN:VCALENDAR
VERSION:2.0
PRODID:-//Nepali Calendar//EN
BEGIN:VEVENT
UID:1ad74b78f42571412fedabde87e73cbb@nepalicalendar.com
DTSTAMP:20260421T194531Z
DTSTART;VALUE=DATE:20250830
DTEND;VALUE=DATE:20250831
SUMMARY:महालक्ष्मी व्रतआरम्भ
DESCRIPTION:महालक्ष्मी व्रतआरम्भ
END:VEVENT
END:VCALENDAR