BEGIN:VCALENDAR
VERSION:2.0
PRODID:-//Nepali Calendar//EN
BEGIN:VEVENT
UID:8391dd9abf7c26e2bbcaea79d5fefc2d@nepalicalendar.com
DTSTAMP:20260421T194208Z
DTSTART;VALUE=DATE:20250829
DTEND;VALUE=DATE:20250830
SUMMARY:विश्व आणविक परिक्षण विरुद्धको दिवस
DESCRIPTION:विश्व आणविक परिक्षण विरुद्धको दिवस
END:VEVENT
END:VCALENDAR