BEGIN:VCALENDAR
VERSION:2.0
PRODID:-//Nepali Calendar//EN
BEGIN:VEVENT
UID:ce6f59a70fc4007b4afec8d206f6e6e0@nepalicalendar.com
DTSTAMP:20260421T194138Z
DTSTART;VALUE=DATE:20250829
DTEND;VALUE=DATE:20250830
SUMMARY:सूर्य षष्ठी
DESCRIPTION:सूर्य षष्ठी
END:VEVENT
END:VCALENDAR