BEGIN:VCALENDAR
VERSION:2.0
PRODID:-//Nepali Calendar//EN
BEGIN:VEVENT
UID:9d626cc4839f9689bd8172d2457f5240@nepalicalendar.com
DTSTAMP:20260421T194234Z
DTSTART;VALUE=DATE:20250828
DTEND;VALUE=DATE:20250829
SUMMARY:ऋषिपञ्चमी व्रत
DESCRIPTION:ऋषिपञ्चमी व्रत
END:VEVENT
END:VCALENDAR